BEGIN:VCALENDAR
VERSION:2.0
PRODID:-//MVPCS - ECPv6.15.20//NONSGML v1.0//EN
CALSCALE:GREGORIAN
METHOD:PUBLISH
X-WR-CALNAME:MVPCS
X-ORIGINAL-URL:https://mvpcs.org
X-WR-CALDESC:Events for MVPCS
REFRESH-INTERVAL;VALUE=DURATION:PT1H
X-Robots-Tag:noindex
X-PUBLISHED-TTL:PT1H
BEGIN:VTIMEZONE
TZID:America/New_York
BEGIN:DAYLIGHT
TZOFFSETFROM:-0500
TZOFFSETTO:-0400
TZNAME:EDT
DTSTART:20240310T070000
END:DAYLIGHT
BEGIN:STANDARD
TZOFFSETFROM:-0400
TZOFFSETTO:-0500
TZNAME:EST
DTSTART:20241103T060000
END:STANDARD
BEGIN:DAYLIGHT
TZOFFSETFROM:-0500
TZOFFSETTO:-0400
TZNAME:EDT
DTSTART:20250309T070000
END:DAYLIGHT
BEGIN:STANDARD
TZOFFSETFROM:-0400
TZOFFSETTO:-0500
TZNAME:EST
DTSTART:20251102T060000
END:STANDARD
BEGIN:DAYLIGHT
TZOFFSETFROM:-0500
TZOFFSETTO:-0400
TZNAME:EDT
DTSTART:20260308T070000
END:DAYLIGHT
BEGIN:STANDARD
TZOFFSETFROM:-0400
TZOFFSETTO:-0500
TZNAME:EST
DTSTART:20261101T060000
END:STANDARD
END:VTIMEZONE
BEGIN:VEVENT
DTSTART;VALUE=DATE:20251106
DTEND;VALUE=DATE:20251107
DTSTAMP:20260423T170919
CREATED:20250827T161728Z
LAST-MODIFIED:20250827T161728Z
UID:4841-1762387200-1762473599@mvpcs.org
SUMMARY:Picture Retake Day
DESCRIPTION:
URL:https://mvpcs.org/event/picture-retake-day-2/
END:VEVENT
BEGIN:VEVENT
DTSTART;VALUE=DATE:20251105
DTEND;VALUE=DATE:20251108
DTSTAMP:20260423T170919
CREATED:20250819T211944Z
LAST-MODIFIED:20250819T211944Z
UID:4748-1762300800-1762559999@mvpcs.org
SUMMARY:PEP Conferences - School Closes at 12:30
DESCRIPTION:
URL:https://mvpcs.org/event/pep-conferences-school-closes-at-1230-2/
END:VEVENT
BEGIN:VEVENT
DTSTART;TZID=America/New_York:20251031T090000
DTEND;TZID=America/New_York:20251031T120000
DTSTAMP:20260423T170919
CREATED:20251031T180451Z
LAST-MODIFIED:20251031T182949Z
UID:4927-1761901200-1761912000@mvpcs.org
SUMMARY:Grade 2 to Thimble Farm - Glean
DESCRIPTION:
URL:https://mvpcs.org/event/grade-2-to-igi-glean/
END:VEVENT
BEGIN:VEVENT
DTSTART;VALUE=DATE:20251025
DTEND;VALUE=DATE:20251026
DTSTAMP:20260423T170919
CREATED:20251031T183133Z
LAST-MODIFIED:20251031T183133Z
UID:4961-1761350400-1761436799@mvpcs.org
SUMMARY:Scarecrows Out!
DESCRIPTION:
URL:https://mvpcs.org/event/scarecrows-out/
END:VEVENT
BEGIN:VEVENT
DTSTART;TZID=America/New_York:20251024T090000
DTEND;TZID=America/New_York:20251024T120000
DTSTAMP:20260423T170919
CREATED:20251031T181126Z
LAST-MODIFIED:20251031T181126Z
UID:4941-1761296400-1761307200@mvpcs.org
SUMMARY:7-8 to Slough Farm -Food Scarcity
DESCRIPTION:
URL:https://mvpcs.org/event/7-8-to-slough-farm-food-scarcity/
END:VEVENT
BEGIN:VEVENT
DTSTART;TZID=America/New_York:20251024T090000
DTEND;TZID=America/New_York:20251024T120000
DTSTAMP:20260423T170919
CREATED:20251031T181032Z
LAST-MODIFIED:20251031T181032Z
UID:4939-1761296400-1761307200@mvpcs.org
SUMMARY:Kindergarten to MV Museum
DESCRIPTION:
URL:https://mvpcs.org/event/kindergarten-to-mv-museum/
END:VEVENT
BEGIN:VEVENT
DTSTART;TZID=America/New_York:20251018T100000
DTEND;TZID=America/New_York:20251018T130000
DTSTAMP:20260423T170919
CREATED:20250919T143157Z
LAST-MODIFIED:20250919T143157Z
UID:4879-1760781600-1760792400@mvpcs.org
SUMMARY:Scarecrow Builder Workshop at MVPCS
DESCRIPTION:
URL:https://mvpcs.org/event/scarecrow-builder-workshop-at-mvpcs/
END:VEVENT
BEGIN:VEVENT
DTSTART;TZID=America/New_York:20251017T140000
DTEND;TZID=America/New_York:20251017T150000
DTSTAMP:20260423T170919
CREATED:20250827T115602Z
LAST-MODIFIED:20250827T115602Z
UID:4837-1760709600-1760713200@mvpcs.org
SUMMARY:Harvest Fest
DESCRIPTION:
URL:https://mvpcs.org/event/harvest-fest/
END:VEVENT
BEGIN:VEVENT
DTSTART;TZID=America/New_York:20251017T090000
DTEND;TZID=America/New_York:20251017T120000
DTSTAMP:20260423T170919
CREATED:20251031T180944Z
LAST-MODIFIED:20251031T180944Z
UID:4937-1760691600-1760702400@mvpcs.org
SUMMARY:Grade 5-6 to Felix Neck
DESCRIPTION:
URL:https://mvpcs.org/event/grade-5-6-to-felix-neck/
END:VEVENT
BEGIN:VEVENT
DTSTART;TZID=America/New_York:20251016T090000
DTEND;TZID=America/New_York:20251016T120000
DTSTAMP:20260423T170919
CREATED:20251031T180909Z
LAST-MODIFIED:20251031T180909Z
UID:4935-1760605200-1760616000@mvpcs.org
SUMMARY:Grade 3-4 to IGI - Glean
DESCRIPTION:
URL:https://mvpcs.org/event/grade-3-4-to-igi-glean/
END:VEVENT
BEGIN:VEVENT
DTSTART;VALUE=DATE:20251015
DTEND;VALUE=DATE:20251016
DTSTAMP:20260423T170919
CREATED:20251031T180625Z
LAST-MODIFIED:20251031T180625Z
UID:4929-1760486400-1760572799@mvpcs.org
SUMMARY:High School College Fair at 4 Cs
DESCRIPTION:
URL:https://mvpcs.org/event/high-school-college-fair-at-4-cs/
END:VEVENT
BEGIN:VEVENT
DTSTART;VALUE=DATE:20251013
DTEND;VALUE=DATE:20251014
DTSTAMP:20260423T170919
CREATED:20250819T211825Z
LAST-MODIFIED:20250819T211825Z
UID:4746-1760313600-1760399999@mvpcs.org
SUMMARY:Indigenous Peoples Day Observed
DESCRIPTION:
URL:https://mvpcs.org/event/indigenous-peoples-day-observed-2/
END:VEVENT
BEGIN:VEVENT
DTSTART;TZID=America/New_York:20251010T123000
DTEND;TZID=America/New_York:20251010T153000
DTSTAMP:20260423T170919
CREATED:20250819T211549Z
LAST-MODIFIED:20250819T211549Z
UID:4744-1760099400-1760110200@mvpcs.org
SUMMARY:Staff Development - School closes at 12:30
DESCRIPTION:
URL:https://mvpcs.org/event/staff-development-school-closes-at-1230-2/
END:VEVENT
BEGIN:VEVENT
DTSTART;TZID=America/New_York:20251007T120000
DTEND;TZID=America/New_York:20251007T153000
DTSTAMP:20260423T170919
CREATED:20251031T180812Z
LAST-MODIFIED:20251031T180812Z
UID:4933-1759838400-1759851000@mvpcs.org
SUMMARY:Grade 12 to Cottage City Oyster
DESCRIPTION:
URL:https://mvpcs.org/event/grade-12-to-cottage-city-oyster/
END:VEVENT
BEGIN:VEVENT
DTSTART;TZID=America/New_York:20251002T100000
DTEND;TZID=America/New_York:20251002T140000
DTSTAMP:20260423T170919
CREATED:20251031T180721Z
LAST-MODIFIED:20251031T180721Z
UID:4931-1759399200-1759413600@mvpcs.org
SUMMARY:Grade 7 Health to Native Earth Teaching Farm
DESCRIPTION:
URL:https://mvpcs.org/event/grade-7-health-to-native-earth-teaching-farm/
END:VEVENT
BEGIN:VEVENT
DTSTART;VALUE=DATE:20250930
DTEND;VALUE=DATE:20251001
DTSTAMP:20260423T170919
CREATED:20250919T143111Z
LAST-MODIFIED:20250919T143111Z
UID:4877-1759190400-1759276799@mvpcs.org
SUMMARY:Scarecrow Builder Sign Ups Due
DESCRIPTION:
URL:https://mvpcs.org/event/scarecrow-builder-sign-ups-due/
END:VEVENT
BEGIN:VEVENT
DTSTART;VALUE=DATE:20250929
DTEND;VALUE=DATE:20251002
DTSTAMP:20260423T170919
CREATED:20250915T184937Z
LAST-MODIFIED:20250915T184937Z
UID:4859-1759104000-1759363199@mvpcs.org
SUMMARY:High School College Trip
DESCRIPTION:
URL:https://mvpcs.org/event/high-school-college-trip-2/
END:VEVENT
BEGIN:VEVENT
DTSTART;TZID=America/New_York:20250926T090000
DTEND;TZID=America/New_York:20250926T120000
DTSTAMP:20260423T170919
CREATED:20251031T182809Z
LAST-MODIFIED:20251031T182809Z
UID:4956-1758877200-1758888000@mvpcs.org
SUMMARY:Grade 2 to Native Earth Teaching Farm
DESCRIPTION:
URL:https://mvpcs.org/event/grade-2-to-native-earth-teaching-farm/
END:VEVENT
BEGIN:VEVENT
DTSTART;VALUE=DATE:20250923
DTEND;VALUE=DATE:20250924
DTSTAMP:20260423T170919
CREATED:20250827T161503Z
LAST-MODIFIED:20250922T141048Z
UID:4839-1758585600-1758671999@mvpcs.org
SUMMARY:Picture Day
DESCRIPTION:
URL:https://mvpcs.org/event/picture-day/
END:VEVENT
BEGIN:VEVENT
DTSTART;TZID=America/New_York:20250919T140000
DTEND;TZID=America/New_York:20250919T150000
DTSTAMP:20260423T170919
CREATED:20250915T185304Z
LAST-MODIFIED:20250915T185304Z
UID:4862-1758290400-1758294000@mvpcs.org
SUMMARY:One Day One Goal: UN Peace Day Soccer Game
DESCRIPTION:
URL:https://mvpcs.org/event/one-day-one-goal-un-peace-day-soccer-game/
END:VEVENT
BEGIN:VEVENT
DTSTART;TZID=America/New_York:20250919T090000
DTEND;TZID=America/New_York:20250919T120000
DTSTAMP:20260423T170919
CREATED:20250919T142948Z
LAST-MODIFIED:20250919T142948Z
UID:4875-1758272400-1758283200@mvpcs.org
SUMMARY:Grades 3-4 to Polly Hill
DESCRIPTION:
URL:https://mvpcs.org/event/grades-3-4-to-polly-hill/
END:VEVENT
BEGIN:VEVENT
DTSTART;TZID=America/New_York:20250919T090000
DTEND;TZID=America/New_York:20250919T090000
DTSTAMP:20260423T170919
CREATED:20250919T142921Z
LAST-MODIFIED:20250919T142921Z
UID:4873-1758272400-1758272400@mvpcs.org
SUMMARY:Grade 7 to Slough Farm: Mandala Workshop
DESCRIPTION:
URL:https://mvpcs.org/event/grade-7-to-slough-farm-mandala-workshop/
END:VEVENT
BEGIN:VEVENT
DTSTART;VALUE=DATE:20250918
DTEND;VALUE=DATE:20250919
DTSTAMP:20260423T170919
CREATED:20251031T181202Z
LAST-MODIFIED:20251031T182712Z
UID:4943-1758153600-1758239999@mvpcs.org
SUMMARY:DESE 5 Year Charter Renewal Visit
DESCRIPTION:
URL:https://mvpcs.org/event/grade-12-to-owen-park-lab/
END:VEVENT
BEGIN:VEVENT
DTSTART;TZID=America/New_York:20250917T140000
DTEND;TZID=America/New_York:20250917T150000
DTSTAMP:20260423T170919
CREATED:20250915T184746Z
LAST-MODIFIED:20250915T184746Z
UID:4855-1758117600-1758121200@mvpcs.org
SUMMARY:Artists in Residence Begins
DESCRIPTION:
URL:https://mvpcs.org/event/artists-in-residence-begins/
END:VEVENT
BEGIN:VEVENT
DTSTART;VALUE=DATE:20250915
DTEND;VALUE=DATE:20250916
DTSTAMP:20260423T170919
CREATED:20250827T114158Z
LAST-MODIFIED:20250827T114158Z
UID:4833-1757894400-1757980799@mvpcs.org
SUMMARY:Grades 7-8 to Camp Burgess
DESCRIPTION:
URL:https://mvpcs.org/event/grades-7-8-to-camp-burgess/
END:VEVENT
BEGIN:VEVENT
DTSTART;TZID=America/New_York:20250912T090000
DTEND;TZID=America/New_York:20250912T120000
DTSTAMP:20260423T170919
CREATED:20250915T184714Z
LAST-MODIFIED:20250915T184714Z
UID:4853-1757667600-1757678400@mvpcs.org
SUMMARY:Grades 7-8 to IGI
DESCRIPTION:
URL:https://mvpcs.org/event/grades-7-8-to-igi/
END:VEVENT
BEGIN:VEVENT
DTSTART;TZID=America/New_York:20250911T173000
DTEND;TZID=America/New_York:20250911T183000
DTSTAMP:20260423T170919
CREATED:20250819T211211Z
LAST-MODIFIED:20250819T211211Z
UID:4740-1757611800-1757615400@mvpcs.org
SUMMARY:All School Family Potluck
DESCRIPTION:
URL:https://mvpcs.org/event/all-school-family-potluck-2/
END:VEVENT
BEGIN:VEVENT
DTSTART;TZID=America/New_York:20250911T163000
DTEND;TZID=America/New_York:20250911T173000
DTSTAMP:20260423T170919
CREATED:20250819T211108Z
LAST-MODIFIED:20250819T211108Z
UID:4738-1757608200-1757611800@mvpcs.org
SUMMARY:New Family Orientation
DESCRIPTION:
URL:https://mvpcs.org/event/new-family-orientation/
END:VEVENT
BEGIN:VEVENT
DTSTART;VALUE=DATE:20250908
DTEND;VALUE=DATE:20250909
DTSTAMP:20260423T170919
CREATED:20250827T114131Z
LAST-MODIFIED:20250827T114131Z
UID:4831-1757289600-1757375999@mvpcs.org
SUMMARY:Grades 5-6 to Camp Burgess
DESCRIPTION:
URL:https://mvpcs.org/event/grades-5-6-to-camp-burgess-2/
END:VEVENT
BEGIN:VEVENT
DTSTART;TZID=America/New_York:20250905T090000
DTEND;TZID=America/New_York:20250905T120000
DTSTAMP:20260423T170919
CREATED:20250827T180334Z
LAST-MODIFIED:20250827T180334Z
UID:4847-1757062800-1757073600@mvpcs.org
SUMMARY:Grades 5-6 Glean at IGI
DESCRIPTION:
URL:https://mvpcs.org/event/grades-5-6-glean-at-igi/
END:VEVENT
END:VCALENDAR