BEGIN:VCALENDAR
VERSION:2.0
PRODID:-//MVPCS - ECPv6.15.20//NONSGML v1.0//EN
CALSCALE:GREGORIAN
METHOD:PUBLISH
X-ORIGINAL-URL:https://mvpcs.org
X-WR-CALDESC:Events for MVPCS
REFRESH-INTERVAL;VALUE=DURATION:PT1H
X-Robots-Tag:noindex
X-PUBLISHED-TTL:PT1H
BEGIN:VTIMEZONE
TZID:America/New_York
BEGIN:DAYLIGHT
TZOFFSETFROM:-0500
TZOFFSETTO:-0400
TZNAME:EDT
DTSTART:20240310T070000
END:DAYLIGHT
BEGIN:STANDARD
TZOFFSETFROM:-0400
TZOFFSETTO:-0500
TZNAME:EST
DTSTART:20241103T060000
END:STANDARD
BEGIN:DAYLIGHT
TZOFFSETFROM:-0500
TZOFFSETTO:-0400
TZNAME:EDT
DTSTART:20250309T070000
END:DAYLIGHT
BEGIN:STANDARD
TZOFFSETFROM:-0400
TZOFFSETTO:-0500
TZNAME:EST
DTSTART:20251102T060000
END:STANDARD
BEGIN:DAYLIGHT
TZOFFSETFROM:-0500
TZOFFSETTO:-0400
TZNAME:EDT
DTSTART:20260308T070000
END:DAYLIGHT
BEGIN:STANDARD
TZOFFSETFROM:-0400
TZOFFSETTO:-0500
TZNAME:EST
DTSTART:20261101T060000
END:STANDARD
END:VTIMEZONE
BEGIN:VEVENT
DTSTART;TZID=America/New_York:20250827T120000
DTEND;TZID=America/New_York:20250828T170000
DTSTAMP:20260423T212959
CREATED:20250819T210914Z
LAST-MODIFIED:20250819T210914Z
UID:4734-1756296000-1756400400@mvpcs.org
SUMMARY:PEP Conferences
DESCRIPTION:
URL:https://mvpcs.org/event/pep-conferences/
END:VEVENT
BEGIN:VEVENT
DTSTART;TZID=America/New_York:20250825T080000
DTEND;TZID=America/New_York:20250826T170000
DTSTAMP:20260423T212959
CREATED:20250819T210818Z
LAST-MODIFIED:20250819T210818Z
UID:4732-1756108800-1756227600@mvpcs.org
SUMMARY:Staff Professional Development
DESCRIPTION:
URL:https://mvpcs.org/event/staff-professional-development/
END:VEVENT
BEGIN:VEVENT
DTSTART;VALUE=DATE:20250819
DTEND;VALUE=DATE:20250820
DTSTAMP:20260423T212959
CREATED:20250819T211300Z
LAST-MODIFIED:20250819T211347Z
UID:4742-1755561600-1755647999@mvpcs.org
SUMMARY:First Full Day of Kindergarten
DESCRIPTION:
URL:https://mvpcs.org/event/first-full-day-of-kindergarten-2/
END:VEVENT
BEGIN:VEVENT
DTSTART;TZID=America/New_York:20250617T123000
DTEND;TZID=America/New_York:20250617T153000
DTSTAMP:20260423T212959
CREATED:20240723T173855Z
LAST-MODIFIED:20250520T161629Z
UID:4238-1750163400-1750174200@mvpcs.org
SUMMARY:Last Day of school- School closes at 12:30
DESCRIPTION:
URL:https://mvpcs.org/event/last-day-of-school-school-closes-at-1230/
END:VEVENT
BEGIN:VEVENT
DTSTART;VALUE=DATE:20250616
DTEND;VALUE=DATE:20250617
DTSTAMP:20260423T212959
CREATED:20240723T173744Z
LAST-MODIFIED:20250520T161547Z
UID:4236-1750032000-1750118399@mvpcs.org
SUMMARY:Project Period Exhibition Day
DESCRIPTION:
URL:https://mvpcs.org/event/project-period-exhibition-day-2/
END:VEVENT
BEGIN:VEVENT
DTSTART;TZID=America/New_York:20250614T110000
DTEND;TZID=America/New_York:20250614T140000
DTSTAMP:20260423T212959
CREATED:20250515T184832Z
LAST-MODIFIED:20250522T133349Z
UID:4653-1749898800-1749909600@mvpcs.org
SUMMARY:Festa Junina
DESCRIPTION:
URL:https://mvpcs.org/event/festa-de-junina/
LOCATION:Charter School
END:VEVENT
BEGIN:VEVENT
DTSTART;TZID=America/New_York:20250607T133000
DTEND;TZID=America/New_York:20250607T153000
DTSTAMP:20260423T212959
CREATED:20240723T173628Z
LAST-MODIFIED:20240723T173628Z
UID:4232-1749303000-1749310200@mvpcs.org
SUMMARY:Graduation
DESCRIPTION:
URL:https://mvpcs.org/event/graduation/
END:VEVENT
BEGIN:VEVENT
DTSTART;TZID=America/New_York:20250606T170000
DTEND;TZID=America/New_York:20250606T190000
DTSTAMP:20260423T212959
CREATED:20250515T184340Z
LAST-MODIFIED:20250522T132835Z
UID:4651-1749229200-1749236400@mvpcs.org
SUMMARY:Alumni Gathering
DESCRIPTION:
URL:https://mvpcs.org/event/alumni-gathering/
END:VEVENT
BEGIN:VEVENT
DTSTART;TZID=America/New_York:20250605T173000
DTEND;TZID=America/New_York:20250605T193000
DTSTAMP:20260423T212959
CREATED:20250515T184204Z
LAST-MODIFIED:20250515T184204Z
UID:4646-1749144600-1749151800@mvpcs.org
SUMMARY:GSA True Colors Ball
DESCRIPTION:True Colors Ball Waiver 2025 \nTrue Colors Ball (2) \nTrue Colors Ball (3)
URL:https://mvpcs.org/event/gsa-true-colors-ball/
LOCATION:Charter School
END:VEVENT
BEGIN:VEVENT
DTSTART;VALUE=DATE:20250605
DTEND;VALUE=DATE:20250617
DTSTAMP:20260423T212959
CREATED:20240723T173710Z
LAST-MODIFIED:20250515T190413Z
UID:4234-1749081600-1750118399@mvpcs.org
SUMMARY:Project Period
DESCRIPTION:
URL:https://mvpcs.org/event/project-period-2/
END:VEVENT
BEGIN:VEVENT
DTSTART;TZID=America/New_York:20250604T093000
DTEND;TZID=America/New_York:20250604T123000
DTSTAMP:20260423T212959
CREATED:20250522T133303Z
LAST-MODIFIED:20250522T133303Z
UID:4666-1749029400-1749040200@mvpcs.org
SUMMARY:Grade 4 to Allen Farm Sheep & Wool Company
DESCRIPTION:
URL:https://mvpcs.org/event/grade-4-to-allen-farm-sheep-wool-company/
LOCATION:Allen Sheep Farm & Wool Company\, Chilmark\, MA
END:VEVENT
BEGIN:VEVENT
DTSTART;VALUE=DATE:20250531
DTEND;VALUE=DATE:20250614
DTSTAMP:20260423T212959
CREATED:20250515T183500Z
LAST-MODIFIED:20250515T183500Z
UID:4644-1748649600-1749859199@mvpcs.org
SUMMARY:Grade 8 Italy Trip
DESCRIPTION:
URL:https://mvpcs.org/event/grade-8-italy-trip/
END:VEVENT
BEGIN:VEVENT
DTSTART;TZID=America/New_York:20250529T100000
DTEND;TZID=America/New_York:20250529T120000
DTSTAMP:20260423T212959
CREATED:20250515T183427Z
LAST-MODIFIED:20250529T125617Z
UID:4642-1748512800-1748520000@mvpcs.org
SUMMARY:CANCELED: Grade 3 to Polly Hill
DESCRIPTION:
URL:https://mvpcs.org/event/grade-3-to-polly-hill/
END:VEVENT
BEGIN:VEVENT
DTSTART;TZID=America/New_York:20250529T093000
DTEND;TZID=America/New_York:20250529T233000
DTSTAMP:20260423T212959
CREATED:20250522T133124Z
LAST-MODIFIED:20250522T133124Z
UID:4663-1748511000-1748561400@mvpcs.org
SUMMARY:Grades 5-6 Bowling Trip
DESCRIPTION:
URL:https://mvpcs.org/event/grades-5-6-bowling-trip/
LOCATION:Barn Bowl and Bistro\, Oak Bluffs\, MA
END:VEVENT
BEGIN:VEVENT
DTSTART;TZID=America/New_York:20250529T083000
DTEND;TZID=America/New_York:20250529T110000
DTSTAMP:20260423T212959
CREATED:20250522T133002Z
LAST-MODIFIED:20250529T125636Z
UID:4660-1748507400-1748516400@mvpcs.org
SUMMARY:CANCELED: Grade 4 to Polly Hill
DESCRIPTION:
URL:https://mvpcs.org/event/grade-4-to-polly-hill/
LOCATION:Polly Hill Arboretum\, West Tisbury\, MA
END:VEVENT
BEGIN:VEVENT
DTSTART;TZID=America/New_York:20250528T173000
DTEND;TZID=America/New_York:20250528T183000
DTSTAMP:20260423T212959
CREATED:20250515T183015Z
LAST-MODIFIED:20250515T183015Z
UID:4638-1748453400-1748457000@mvpcs.org
SUMMARY:Kindergarten Picnic
DESCRIPTION:
URL:https://mvpcs.org/event/kindergarten-picnic/
END:VEVENT
BEGIN:VEVENT
DTSTART;TZID=America/New_York:20250528T124500
DTEND;TZID=America/New_York:20250528T153000
DTSTAMP:20260423T212959
CREATED:20240723T173528Z
LAST-MODIFIED:20240723T173528Z
UID:4230-1748436300-1748446200@mvpcs.org
SUMMARY:Staff Development - School closes at 12:45
DESCRIPTION:
URL:https://mvpcs.org/event/staff-development-school-closes-at-1245-4/
END:VEVENT
BEGIN:VEVENT
DTSTART;VALUE=DATE:20250528
DTEND;VALUE=DATE:20250529
DTSTAMP:20260423T212959
CREATED:20250515T182942Z
LAST-MODIFIED:20250515T182942Z
UID:4636-1748390400-1748476799@mvpcs.org
SUMMARY:Move Up Day
DESCRIPTION:Students can attend a class with their teachers for the following school year.
URL:https://mvpcs.org/event/move-up-day/
END:VEVENT
BEGIN:VEVENT
DTSTART;TZID=America/New_York:20250527T123000
DTEND;TZID=America/New_York:20250527T153000
DTSTAMP:20260423T212959
CREATED:20250515T182831Z
LAST-MODIFIED:20250515T182831Z
UID:4634-1748349000-1748359800@mvpcs.org
SUMMARY:Laurie Celebration: Life is a Picnic
DESCRIPTION:
URL:https://mvpcs.org/event/laurie-celebration-life-is-a-picnic/
END:VEVENT
BEGIN:VEVENT
DTSTART;TZID=America/New_York:20250527T093000
DTEND;TZID=America/New_York:20250527T110000
DTSTAMP:20260423T212959
CREATED:20250529T153933Z
LAST-MODIFIED:20250529T153933Z
UID:4674-1748338200-1748343600@mvpcs.org
SUMMARY:Grade 1 to Slough Farm
DESCRIPTION:
URL:https://mvpcs.org/event/grade-1-to-slough-farm/
LOCATION:Slough Farm\, Edgartown\, MA
END:VEVENT
BEGIN:VEVENT
DTSTART;VALUE=DATE:20250526
DTEND;VALUE=DATE:20250527
DTSTAMP:20260423T212959
CREATED:20240723T173427Z
LAST-MODIFIED:20240723T173427Z
UID:4228-1748217600-1748303999@mvpcs.org
SUMMARY:Memorial Day Observed
DESCRIPTION:
URL:https://mvpcs.org/event/memorial-day-observed/
END:VEVENT
BEGIN:VEVENT
DTSTART;TZID=America/New_York:20250523T123000
DTEND;TZID=America/New_York:20250523T133000
DTSTAMP:20260423T212959
CREATED:20250515T182203Z
LAST-MODIFIED:20250523T133535Z
UID:4632-1748003400-1748007000@mvpcs.org
SUMMARY:Portfolio Exhibition
DESCRIPTION:
URL:https://mvpcs.org/event/portfolio-exhibition/
END:VEVENT
BEGIN:VEVENT
DTSTART;VALUE=DATE:20250522
DTEND;VALUE=DATE:20250523
DTSTAMP:20260423T212959
CREATED:20250515T182126Z
LAST-MODIFIED:20250515T182126Z
UID:4630-1747872000-1747958399@mvpcs.org
SUMMARY:Youth Climate Summit (HS Only)
DESCRIPTION:
URL:https://mvpcs.org/event/youth-climate-summit-hs-only/
END:VEVENT
BEGIN:VEVENT
DTSTART;TZID=America/New_York:20250521T130000
DTEND;TZID=America/New_York:20250521T153000
DTSTAMP:20260423T212959
CREATED:20250515T182050Z
LAST-MODIFIED:20250515T182050Z
UID:4628-1747832400-1747841400@mvpcs.org
SUMMARY:Grades 7-12 Climate Cafe
DESCRIPTION:
URL:https://mvpcs.org/event/grades-7-12-climate-cafe/
END:VEVENT
BEGIN:VEVENT
DTSTART;TZID=America/New_York:20250520T180000
DTEND;TZID=America/New_York:20250520T180000
DTSTAMP:20260423T212959
CREATED:20240930T165409Z
LAST-MODIFIED:20240930T165409Z
UID:4319-1747764000-1747764000@mvpcs.org
SUMMARY:All Island String Orchestra Concert
DESCRIPTION:
URL:https://mvpcs.org/event/all-island-string-orchestra-concert-2/
LOCATION:MVRHS Performing Arts Center (PAC)
END:VEVENT
BEGIN:VEVENT
DTSTART;VALUE=DATE:20250520
DTEND;VALUE=DATE:20250522
DTSTAMP:20260423T212959
CREATED:20250515T181946Z
LAST-MODIFIED:20250515T181946Z
UID:4626-1747699200-1747871999@mvpcs.org
SUMMARY:Grade 6 Trip to Penikese Island
DESCRIPTION:May 22nd Rain Date
URL:https://mvpcs.org/event/grade-6-trip-to-penikese-island/
END:VEVENT
BEGIN:VEVENT
DTSTART;TZID=America/New_York:20250519T090000
DTEND;TZID=America/New_York:20250519T110000
DTSTAMP:20260423T212959
CREATED:20250515T181839Z
LAST-MODIFIED:20250515T181839Z
UID:4624-1747645200-1747652400@mvpcs.org
SUMMARY:Grades 6-8 Strings Student Rehearsal
DESCRIPTION:
URL:https://mvpcs.org/event/grades-6-8-strings-student-rehearsal/
LOCATION:West Tisbury School
END:VEVENT
BEGIN:VEVENT
DTSTART;TZID=America/New_York:20250516T180000
DTEND;TZID=America/New_York:20250516T203000
DTSTAMP:20260423T212959
CREATED:20250515T181350Z
LAST-MODIFIED:20250515T181350Z
UID:4620-1747418400-1747427400@mvpcs.org
SUMMARY:High School Gala
DESCRIPTION:HS Gala Waiver 2025
URL:https://mvpcs.org/event/high-school-gala/
LOCATION:West Chop Beach Club\, Vineyard Haven
END:VEVENT
BEGIN:VEVENT
DTSTART;TZID=America/New_York:20250516T123000
DTEND;TZID=America/New_York:20250516T140000
DTSTAMP:20260423T212959
CREATED:20250515T181101Z
LAST-MODIFIED:20250516T124041Z
UID:4618-1747398600-1747404000@mvpcs.org
SUMMARY:Mentorship & Experiential Learning Lunch Celebration
DESCRIPTION:
URL:https://mvpcs.org/event/mentorship-experiential-learning-lunch-celebration/
END:VEVENT
BEGIN:VEVENT
DTSTART;TZID=America/New_York:20250516T093000
DTEND;TZID=America/New_York:20250516T120000
DTSTAMP:20260423T212959
CREATED:20250515T181023Z
LAST-MODIFIED:20250515T181023Z
UID:4616-1747387800-1747396800@mvpcs.org
SUMMARY:Grade 3 to YMCA
DESCRIPTION:
URL:https://mvpcs.org/event/grade-3-to-ymca-2/
END:VEVENT
END:VCALENDAR