BEGIN:VCALENDAR
VERSION:2.0
PRODID:-//MVPCS - ECPv6.15.20//NONSGML v1.0//EN
CALSCALE:GREGORIAN
METHOD:PUBLISH
X-WR-CALNAME:MVPCS
X-ORIGINAL-URL:https://mvpcs.org
X-WR-CALDESC:Events for MVPCS
REFRESH-INTERVAL;VALUE=DURATION:PT1H
X-Robots-Tag:noindex
X-PUBLISHED-TTL:PT1H
BEGIN:VTIMEZONE
TZID:America/New_York
BEGIN:DAYLIGHT
TZOFFSETFROM:-0500
TZOFFSETTO:-0400
TZNAME:EDT
DTSTART:20240310T070000
END:DAYLIGHT
BEGIN:STANDARD
TZOFFSETFROM:-0400
TZOFFSETTO:-0500
TZNAME:EST
DTSTART:20241103T060000
END:STANDARD
BEGIN:DAYLIGHT
TZOFFSETFROM:-0500
TZOFFSETTO:-0400
TZNAME:EDT
DTSTART:20250309T070000
END:DAYLIGHT
BEGIN:STANDARD
TZOFFSETFROM:-0400
TZOFFSETTO:-0500
TZNAME:EST
DTSTART:20251102T060000
END:STANDARD
BEGIN:DAYLIGHT
TZOFFSETFROM:-0500
TZOFFSETTO:-0400
TZNAME:EDT
DTSTART:20260308T070000
END:DAYLIGHT
BEGIN:STANDARD
TZOFFSETFROM:-0400
TZOFFSETTO:-0500
TZNAME:EST
DTSTART:20261101T060000
END:STANDARD
END:VTIMEZONE
BEGIN:VEVENT
DTSTART;TZID=America/New_York:20250527T093000
DTEND;TZID=America/New_York:20250527T110000
DTSTAMP:20260424T040745
CREATED:20250529T153933Z
LAST-MODIFIED:20250529T153933Z
UID:4674-1748338200-1748343600@mvpcs.org
SUMMARY:Grade 1 to Slough Farm
DESCRIPTION:
URL:https://mvpcs.org/event/grade-1-to-slough-farm/
LOCATION:Slough Farm\, Edgartown\, MA
END:VEVENT
BEGIN:VEVENT
DTSTART;VALUE=DATE:20250526
DTEND;VALUE=DATE:20250527
DTSTAMP:20260424T040745
CREATED:20240723T173427Z
LAST-MODIFIED:20240723T173427Z
UID:4228-1748217600-1748303999@mvpcs.org
SUMMARY:Memorial Day Observed
DESCRIPTION:
URL:https://mvpcs.org/event/memorial-day-observed/
END:VEVENT
BEGIN:VEVENT
DTSTART;TZID=America/New_York:20250523T123000
DTEND;TZID=America/New_York:20250523T133000
DTSTAMP:20260424T040745
CREATED:20250515T182203Z
LAST-MODIFIED:20250523T133535Z
UID:4632-1748003400-1748007000@mvpcs.org
SUMMARY:Portfolio Exhibition
DESCRIPTION:
URL:https://mvpcs.org/event/portfolio-exhibition/
END:VEVENT
BEGIN:VEVENT
DTSTART;VALUE=DATE:20250522
DTEND;VALUE=DATE:20250523
DTSTAMP:20260424T040745
CREATED:20250515T182126Z
LAST-MODIFIED:20250515T182126Z
UID:4630-1747872000-1747958399@mvpcs.org
SUMMARY:Youth Climate Summit (HS Only)
DESCRIPTION:
URL:https://mvpcs.org/event/youth-climate-summit-hs-only/
END:VEVENT
BEGIN:VEVENT
DTSTART;TZID=America/New_York:20250521T130000
DTEND;TZID=America/New_York:20250521T153000
DTSTAMP:20260424T040745
CREATED:20250515T182050Z
LAST-MODIFIED:20250515T182050Z
UID:4628-1747832400-1747841400@mvpcs.org
SUMMARY:Grades 7-12 Climate Cafe
DESCRIPTION:
URL:https://mvpcs.org/event/grades-7-12-climate-cafe/
END:VEVENT
BEGIN:VEVENT
DTSTART;TZID=America/New_York:20250520T180000
DTEND;TZID=America/New_York:20250520T180000
DTSTAMP:20260424T040745
CREATED:20240930T165409Z
LAST-MODIFIED:20240930T165409Z
UID:4319-1747764000-1747764000@mvpcs.org
SUMMARY:All Island String Orchestra Concert
DESCRIPTION:
URL:https://mvpcs.org/event/all-island-string-orchestra-concert-2/
LOCATION:MVRHS Performing Arts Center (PAC)
END:VEVENT
BEGIN:VEVENT
DTSTART;VALUE=DATE:20250520
DTEND;VALUE=DATE:20250522
DTSTAMP:20260424T040745
CREATED:20250515T181946Z
LAST-MODIFIED:20250515T181946Z
UID:4626-1747699200-1747871999@mvpcs.org
SUMMARY:Grade 6 Trip to Penikese Island
DESCRIPTION:May 22nd Rain Date
URL:https://mvpcs.org/event/grade-6-trip-to-penikese-island/
END:VEVENT
BEGIN:VEVENT
DTSTART;TZID=America/New_York:20250519T090000
DTEND;TZID=America/New_York:20250519T110000
DTSTAMP:20260424T040745
CREATED:20250515T181839Z
LAST-MODIFIED:20250515T181839Z
UID:4624-1747645200-1747652400@mvpcs.org
SUMMARY:Grades 6-8 Strings Student Rehearsal
DESCRIPTION:
URL:https://mvpcs.org/event/grades-6-8-strings-student-rehearsal/
LOCATION:West Tisbury School
END:VEVENT
BEGIN:VEVENT
DTSTART;TZID=America/New_York:20250516T180000
DTEND;TZID=America/New_York:20250516T203000
DTSTAMP:20260424T040745
CREATED:20250515T181350Z
LAST-MODIFIED:20250515T181350Z
UID:4620-1747418400-1747427400@mvpcs.org
SUMMARY:High School Gala
DESCRIPTION:HS Gala Waiver 2025
URL:https://mvpcs.org/event/high-school-gala/
LOCATION:West Chop Beach Club\, Vineyard Haven
END:VEVENT
BEGIN:VEVENT
DTSTART;TZID=America/New_York:20250516T123000
DTEND;TZID=America/New_York:20250516T140000
DTSTAMP:20260424T040745
CREATED:20250515T181101Z
LAST-MODIFIED:20250516T124041Z
UID:4618-1747398600-1747404000@mvpcs.org
SUMMARY:Mentorship & Experiential Learning Lunch Celebration
DESCRIPTION:
URL:https://mvpcs.org/event/mentorship-experiential-learning-lunch-celebration/
END:VEVENT
BEGIN:VEVENT
DTSTART;TZID=America/New_York:20250516T093000
DTEND;TZID=America/New_York:20250516T120000
DTSTAMP:20260424T040745
CREATED:20250515T181023Z
LAST-MODIFIED:20250515T181023Z
UID:4616-1747387800-1747396800@mvpcs.org
SUMMARY:Grade 3 to YMCA
DESCRIPTION:
URL:https://mvpcs.org/event/grade-3-to-ymca-2/
END:VEVENT
BEGIN:VEVENT
DTSTART;TZID=America/New_York:20250513T140000
DTEND;TZID=America/New_York:20250513T143000
DTSTAMP:20260424T040745
CREATED:20250515T180941Z
LAST-MODIFIED:20250515T180941Z
UID:4614-1747144800-1747146600@mvpcs.org
SUMMARY:All School Photo
DESCRIPTION:
URL:https://mvpcs.org/event/all-school-photo/
END:VEVENT
BEGIN:VEVENT
DTSTART;TZID=America/New_York:20250512T130000
DTEND;TZID=America/New_York:20250512T140000
DTSTAMP:20260424T040745
CREATED:20250515T180907Z
LAST-MODIFIED:20250515T180907Z
UID:4612-1747054800-1747058400@mvpcs.org
SUMMARY:Grades 7-8 Cyber Security Presentation with DA
DESCRIPTION:
URL:https://mvpcs.org/event/grades-7-8-cyber-security-presentation-with-da/
END:VEVENT
BEGIN:VEVENT
DTSTART;TZID=America/New_York:20250506T123000
DTEND;TZID=America/New_York:20250506T143000
DTSTAMP:20260424T040745
CREATED:20250515T180810Z
LAST-MODIFIED:20250515T180810Z
UID:4610-1746534600-1746541800@mvpcs.org
SUMMARY:Grades 6-8 Strings Students Rehearsal
DESCRIPTION:
URL:https://mvpcs.org/event/grades-6-8-strings-students-rehearsal/
LOCATION:West Tisbury School
END:VEVENT
BEGIN:VEVENT
DTSTART;TZID=America/New_York:20250502T140000
DTEND;TZID=America/New_York:20250502T150000
DTSTAMP:20260424T040745
CREATED:20250515T180710Z
LAST-MODIFIED:20250515T180710Z
UID:4608-1746194400-1746198000@mvpcs.org
SUMMARY:May Day Celebration
DESCRIPTION:
URL:https://mvpcs.org/event/may-day-celebration/
END:VEVENT
BEGIN:VEVENT
DTSTART;TZID=America/New_York:20250501T173000
DTEND;TZID=America/New_York:20250501T190000
DTSTAMP:20260424T040745
CREATED:20240723T173354Z
LAST-MODIFIED:20240723T173354Z
UID:4226-1746120600-1746126000@mvpcs.org
SUMMARY:Annual Meeting
DESCRIPTION:
URL:https://mvpcs.org/event/annual-meeting/
END:VEVENT
BEGIN:VEVENT
DTSTART;VALUE=DATE:20250428
DTEND;VALUE=DATE:20250429
DTSTAMP:20260424T040745
CREATED:20240723T173256Z
LAST-MODIFIED:20240723T173256Z
UID:4224-1745798400-1745884799@mvpcs.org
SUMMARY:School reopens
DESCRIPTION:
URL:https://mvpcs.org/event/school-reopens-4/
END:VEVENT
END:VCALENDAR