BEGIN:VCALENDAR
VERSION:2.0
PRODID:-//MVPCS - ECPv6.15.20//NONSGML v1.0//EN
CALSCALE:GREGORIAN
METHOD:PUBLISH
X-ORIGINAL-URL:https://mvpcs.org
X-WR-CALDESC:Events for MVPCS
REFRESH-INTERVAL;VALUE=DURATION:PT1H
X-Robots-Tag:noindex
X-PUBLISHED-TTL:PT1H
BEGIN:VTIMEZONE
TZID:America/New_York
BEGIN:DAYLIGHT
TZOFFSETFROM:-0500
TZOFFSETTO:-0400
TZNAME:EDT
DTSTART:20240310T070000
END:DAYLIGHT
BEGIN:STANDARD
TZOFFSETFROM:-0400
TZOFFSETTO:-0500
TZNAME:EST
DTSTART:20241103T060000
END:STANDARD
BEGIN:DAYLIGHT
TZOFFSETFROM:-0500
TZOFFSETTO:-0400
TZNAME:EDT
DTSTART:20250309T070000
END:DAYLIGHT
BEGIN:STANDARD
TZOFFSETFROM:-0400
TZOFFSETTO:-0500
TZNAME:EST
DTSTART:20251102T060000
END:STANDARD
BEGIN:DAYLIGHT
TZOFFSETFROM:-0500
TZOFFSETTO:-0400
TZNAME:EDT
DTSTART:20260308T070000
END:DAYLIGHT
BEGIN:STANDARD
TZOFFSETFROM:-0400
TZOFFSETTO:-0500
TZNAME:EST
DTSTART:20261101T060000
END:STANDARD
END:VTIMEZONE
BEGIN:VEVENT
DTSTART;TZID=America/New_York:20250513T140000
DTEND;TZID=America/New_York:20250513T143000
DTSTAMP:20260424T034941
CREATED:20250515T180941Z
LAST-MODIFIED:20250515T180941Z
UID:4614-1747144800-1747146600@mvpcs.org
SUMMARY:All School Photo
DESCRIPTION:
URL:https://mvpcs.org/event/all-school-photo/
END:VEVENT
BEGIN:VEVENT
DTSTART;TZID=America/New_York:20250512T130000
DTEND;TZID=America/New_York:20250512T140000
DTSTAMP:20260424T034941
CREATED:20250515T180907Z
LAST-MODIFIED:20250515T180907Z
UID:4612-1747054800-1747058400@mvpcs.org
SUMMARY:Grades 7-8 Cyber Security Presentation with DA
DESCRIPTION:
URL:https://mvpcs.org/event/grades-7-8-cyber-security-presentation-with-da/
END:VEVENT
BEGIN:VEVENT
DTSTART;TZID=America/New_York:20250506T123000
DTEND;TZID=America/New_York:20250506T143000
DTSTAMP:20260424T034941
CREATED:20250515T180810Z
LAST-MODIFIED:20250515T180810Z
UID:4610-1746534600-1746541800@mvpcs.org
SUMMARY:Grades 6-8 Strings Students Rehearsal
DESCRIPTION:
URL:https://mvpcs.org/event/grades-6-8-strings-students-rehearsal/
LOCATION:West Tisbury School
END:VEVENT
BEGIN:VEVENT
DTSTART;TZID=America/New_York:20250502T140000
DTEND;TZID=America/New_York:20250502T150000
DTSTAMP:20260424T034941
CREATED:20250515T180710Z
LAST-MODIFIED:20250515T180710Z
UID:4608-1746194400-1746198000@mvpcs.org
SUMMARY:May Day Celebration
DESCRIPTION:
URL:https://mvpcs.org/event/may-day-celebration/
END:VEVENT
BEGIN:VEVENT
DTSTART;TZID=America/New_York:20250501T173000
DTEND;TZID=America/New_York:20250501T190000
DTSTAMP:20260424T034941
CREATED:20240723T173354Z
LAST-MODIFIED:20240723T173354Z
UID:4226-1746120600-1746126000@mvpcs.org
SUMMARY:Annual Meeting
DESCRIPTION:
URL:https://mvpcs.org/event/annual-meeting/
END:VEVENT
BEGIN:VEVENT
DTSTART;VALUE=DATE:20250428
DTEND;VALUE=DATE:20250429
DTSTAMP:20260424T034941
CREATED:20240723T173256Z
LAST-MODIFIED:20240723T173256Z
UID:4224-1745798400-1745884799@mvpcs.org
SUMMARY:School reopens
DESCRIPTION:
URL:https://mvpcs.org/event/school-reopens-4/
END:VEVENT
END:VCALENDAR