BEGIN:VCALENDAR
VERSION:2.0
PRODID:-//MVPCS - ECPv6.15.20//NONSGML v1.0//EN
CALSCALE:GREGORIAN
METHOD:PUBLISH
X-WR-CALNAME:MVPCS
X-ORIGINAL-URL:https://mvpcs.org
X-WR-CALDESC:Events for MVPCS
REFRESH-INTERVAL;VALUE=DURATION:PT1H
X-Robots-Tag:noindex
X-PUBLISHED-TTL:PT1H
BEGIN:VTIMEZONE
TZID:America/New_York
BEGIN:DAYLIGHT
TZOFFSETFROM:-0500
TZOFFSETTO:-0400
TZNAME:EDT
DTSTART:20250309T070000
END:DAYLIGHT
BEGIN:STANDARD
TZOFFSETFROM:-0400
TZOFFSETTO:-0500
TZNAME:EST
DTSTART:20251102T060000
END:STANDARD
BEGIN:DAYLIGHT
TZOFFSETFROM:-0500
TZOFFSETTO:-0400
TZNAME:EDT
DTSTART:20260308T070000
END:DAYLIGHT
BEGIN:STANDARD
TZOFFSETFROM:-0400
TZOFFSETTO:-0500
TZNAME:EST
DTSTART:20261101T060000
END:STANDARD
BEGIN:DAYLIGHT
TZOFFSETFROM:-0500
TZOFFSETTO:-0400
TZNAME:EDT
DTSTART:20270314T070000
END:DAYLIGHT
BEGIN:STANDARD
TZOFFSETFROM:-0400
TZOFFSETTO:-0500
TZNAME:EST
DTSTART:20271107T060000
END:STANDARD
END:VTIMEZONE
BEGIN:VEVENT
DTSTART;VALUE=DATE:20260507
DTEND;VALUE=DATE:20260508
DTSTAMP:20260423T095844
CREATED:20250820T112533Z
LAST-MODIFIED:20250820T112533Z
UID:4804-1778112000-1778198399@mvpcs.org
SUMMARY:Annual Meeting - 5:30
DESCRIPTION:
URL:https://mvpcs.org/event/annual-meeting-530/
END:VEVENT
BEGIN:VEVENT
DTSTART;TZID=America/New_York:20260515T173000
DTEND;TZID=America/New_York:20260515T200000
DTSTAMP:20260423T095844
CREATED:20260326T135541Z
LAST-MODIFIED:20260326T135541Z
UID:5077-1778866200-1778875200@mvpcs.org
SUMMARY:Talent Show
DESCRIPTION:
URL:https://mvpcs.org/event/talent-show-2/
END:VEVENT
BEGIN:VEVENT
DTSTART;TZID=America/New_York:20260516T080000
DTEND;TZID=America/New_York:20260516T170000
DTSTAMP:20260423T095844
CREATED:20260206T161123Z
LAST-MODIFIED:20260206T161123Z
UID:5041-1778918400-1778950800@mvpcs.org
SUMMARY:All School Talent Show! (time tbd)
DESCRIPTION:
URL:https://mvpcs.org/event/all-school-talent-show-time-tbd/
END:VEVENT
BEGIN:VEVENT
DTSTART;VALUE=DATE:20260525
DTEND;VALUE=DATE:20260526
DTSTAMP:20260423T095844
CREATED:20250820T112634Z
LAST-MODIFIED:20250820T112634Z
UID:4806-1779667200-1779753599@mvpcs.org
SUMMARY:Memorial Day Observed
DESCRIPTION:
URL:https://mvpcs.org/event/memorial-day-observed-2/
END:VEVENT
BEGIN:VEVENT
DTSTART;TZID=America/New_York:20260526T180000
DTEND;TZID=America/New_York:20260526T190000
DTSTAMP:20260423T095844
CREATED:20260217T165335Z
LAST-MODIFIED:20260217T165335Z
UID:5050-1779818400-1779822000@mvpcs.org
SUMMARY:String Orchestra Concert for 5-8 Grade students at the MVRHS PAC @ 6pm
DESCRIPTION:
URL:https://mvpcs.org/event/string-orchestra-concert-for-5-8-grade-students-at-the-mvrhs-pac-6pm/
END:VEVENT
BEGIN:VEVENT
DTSTART;VALUE=DATE:20260527
DTEND;VALUE=DATE:20260528
DTSTAMP:20260423T095844
CREATED:20250820T112724Z
LAST-MODIFIED:20250820T112724Z
UID:4808-1779840000-1779926399@mvpcs.org
SUMMARY:Staff Professional Development - School Closes at 12:45
DESCRIPTION:
URL:https://mvpcs.org/event/staff-professional-development-school-closes-at-1245-3/
END:VEVENT
END:VCALENDAR